BEGIN:VCALENDAR
VERSION:2.0
PRODID:-//Hamilton House Senior Living - ECPv6.13.0//NONSGML v1.0//EN
CALSCALE:GREGORIAN
METHOD:PUBLISH
X-ORIGINAL-URL:https://hamiltonhouseseniorliving.com
X-WR-CALDESC:Events for Hamilton House Senior Living
REFRESH-INTERVAL;VALUE=DURATION:PT1H
X-Robots-Tag:noindex
X-PUBLISHED-TTL:PT1H
BEGIN:VTIMEZONE
TZID:America/Chicago
BEGIN:DAYLIGHT
TZOFFSETFROM:-0600
TZOFFSETTO:-0500
TZNAME:CDT
DTSTART:20250309T080000
END:DAYLIGHT
BEGIN:STANDARD
TZOFFSETFROM:-0500
TZOFFSETTO:-0600
TZNAME:CST
DTSTART:20251102T070000
END:STANDARD
BEGIN:DAYLIGHT
TZOFFSETFROM:-0600
TZOFFSETTO:-0500
TZNAME:CDT
DTSTART:20260308T080000
END:DAYLIGHT
BEGIN:STANDARD
TZOFFSETFROM:-0500
TZOFFSETTO:-0600
TZNAME:CST
DTSTART:20261101T070000
END:STANDARD
BEGIN:DAYLIGHT
TZOFFSETFROM:-0600
TZOFFSETTO:-0500
TZNAME:CDT
DTSTART:20270314T080000
END:DAYLIGHT
BEGIN:STANDARD
TZOFFSETFROM:-0500
TZOFFSETTO:-0600
TZNAME:CST
DTSTART:20271107T070000
END:STANDARD
BEGIN:DAYLIGHT
TZOFFSETFROM:-0600
TZOFFSETTO:-0500
TZNAME:CDT
DTSTART:20280312T080000
END:DAYLIGHT
BEGIN:STANDARD
TZOFFSETFROM:-0500
TZOFFSETTO:-0600
TZNAME:CST
DTSTART:20281105T070000
END:STANDARD
BEGIN:DAYLIGHT
TZOFFSETFROM:-0600
TZOFFSETTO:-0500
TZNAME:CDT
DTSTART:20290311T080000
END:DAYLIGHT
BEGIN:STANDARD
TZOFFSETFROM:-0500
TZOFFSETTO:-0600
TZNAME:CST
DTSTART:20291104T070000
END:STANDARD
BEGIN:DAYLIGHT
TZOFFSETFROM:-0600
TZOFFSETTO:-0500
TZNAME:CDT
DTSTART:20300310T080000
END:DAYLIGHT
BEGIN:STANDARD
TZOFFSETFROM:-0500
TZOFFSETTO:-0600
TZNAME:CST
DTSTART:20301103T070000
END:STANDARD
END:VTIMEZONE
BEGIN:VEVENT
DTSTART;TZID=America/Chicago:20250802T133000
DTEND;TZID=America/Chicago:20301207T153000
DTSTAMP:20260419T075726
CREATED:20250703T234726Z
LAST-MODIFIED:20251231T010129Z
UID:10001257-1754141400-1922887800@hamiltonhouseseniorliving.com
SUMMARY:Game Show
DESCRIPTION:
URL:https://hamiltonhouseseniorliving.com/event-calendar/at-the-movies-13/
CATEGORIES:Legacy Court
END:VEVENT
BEGIN:VEVENT
DTSTART;TZID=America/Chicago:20251228T110000
DTEND;TZID=America/Chicago:20260125T113000
DTSTAMP:20260419T075726
CREATED:20251227T004632Z
LAST-MODIFIED:20251228T004632Z
UID:10004181-1766919600-1769340600@hamiltonhouseseniorliving.com
SUMMARY:Prepare Oshibori Towels and Snacks
DESCRIPTION:
URL:https://hamiltonhouseseniorliving.com/event-calendar/prepare-oshibori-towels-and-snacks/
LOCATION:Dining Room
CATEGORIES:Legacy Court
END:VEVENT
BEGIN:VEVENT
DTSTART;VALUE=DATE:20260102
DTEND;VALUE=DATE:20260103
DTSTAMP:20260419T075726
CREATED:20251204T000158Z
LAST-MODIFIED:20260101T010129Z
UID:10003927-1767312000-1767398399@hamiltonhouseseniorliving.com
SUMMARY:AM & PM ADLs/1:1 Visits
DESCRIPTION:
URL:https://hamiltonhouseseniorliving.com/event-calendar/am-pm-adls-11-visits-233/
CATEGORIES:Legacy Court
END:VEVENT
BEGIN:VEVENT
DTSTART;VALUE=DATE:20260102
DTEND;VALUE=DATE:20260103
DTSTAMP:20260419T075726
CREATED:20251204T000158Z
LAST-MODIFIED:20260101T010129Z
UID:10003928-1767312000-1767398399@hamiltonhouseseniorliving.com
SUMMARY:DR Set Up/Clean Up
DESCRIPTION:
URL:https://hamiltonhouseseniorliving.com/event-calendar/dr-set-up-clean-up-233/
CATEGORIES:Legacy Court
END:VEVENT
BEGIN:VEVENT
DTSTART;TZID=America/Chicago:20260102T083000
DTEND;TZID=America/Chicago:20260102T093000
DTSTAMP:20260419T075726
CREATED:20260101T010128Z
LAST-MODIFIED:20260102T010130Z
UID:10004337-1767342600-1767346200@hamiltonhouseseniorliving.com
SUMMARY:Game Show
DESCRIPTION:
URL:https://hamiltonhouseseniorliving.com/event-calendar/game-show-342/
CATEGORIES:Legacy Court
END:VEVENT
BEGIN:VEVENT
DTSTART;TZID=America/Chicago:20260102T083000
DTEND;TZID=America/Chicago:20260102T101500
DTSTAMP:20260419T075726
CREATED:20251211T003228Z
LAST-MODIFIED:20251231T010128Z
UID:10004006-1767342600-1767348900@hamiltonhouseseniorliving.com
SUMMARY:Game Show
DESCRIPTION:
URL:https://hamiltonhouseseniorliving.com/event-calendar/game-show-313/
CATEGORIES:Legacy Court
END:VEVENT
BEGIN:VEVENT
DTSTART;TZID=America/Chicago:20260102T100000
DTEND;TZID=America/Chicago:20260102T110000
DTSTAMP:20260419T075726
CREATED:20251230T004629Z
LAST-MODIFIED:20260102T010130Z
UID:10004224-1767348000-1767351600@hamiltonhouseseniorliving.com
SUMMARY:Fun With The Littles
DESCRIPTION:
URL:https://hamiltonhouseseniorliving.com/event-calendar/fun-with-the-littles-6/
CATEGORIES:Legacy Court
END:VEVENT
BEGIN:VEVENT
DTSTART;TZID=America/Chicago:20260102T130000
DTEND;TZID=America/Chicago:20260102T140000
DTSTAMP:20260419T075726
CREATED:20251204T000158Z
LAST-MODIFIED:20251212T003138Z
UID:10003929-1767358800-1767362400@hamiltonhouseseniorliving.com
SUMMARY:The Really Big Show
DESCRIPTION:
URL:https://hamiltonhouseseniorliving.com/event-calendar/the-really-big-show-9/
CATEGORIES:Legacy Court
END:VEVENT
BEGIN:VEVENT
DTSTART;TZID=America/Chicago:20260102T133000
DTEND;TZID=America/Chicago:20260102T140000
DTSTAMP:20260419T075726
CREATED:20251230T004629Z
LAST-MODIFIED:20260102T010130Z
UID:10004225-1767360600-1767362400@hamiltonhouseseniorliving.com
SUMMARY:Sit And Be Fit
DESCRIPTION:
URL:https://hamiltonhouseseniorliving.com/event-calendar/sit-and-be-fit/
CATEGORIES:Legacy Court
END:VEVENT
BEGIN:VEVENT
DTSTART;TZID=America/Chicago:20260102T141500
DTEND;TZID=America/Chicago:20260102T150000
DTSTAMP:20260419T075726
CREATED:20251230T004629Z
LAST-MODIFIED:20260102T010130Z
UID:10004226-1767363300-1767366000@hamiltonhouseseniorliving.com
SUMMARY:Cream Puff Social
DESCRIPTION:
URL:https://hamiltonhouseseniorliving.com/event-calendar/cream-puff-social/
CATEGORIES:Legacy Court
END:VEVENT
BEGIN:VEVENT
DTSTART;TZID=America/Chicago:20260102T150000
DTEND;TZID=America/Chicago:20260102T160000
DTSTAMP:20260419T075726
CREATED:20251230T004629Z
LAST-MODIFIED:20260102T010130Z
UID:10004227-1767366000-1767369600@hamiltonhouseseniorliving.com
SUMMARY:Undeck The Halls
DESCRIPTION:
URL:https://hamiltonhouseseniorliving.com/event-calendar/undeck-the-halls/
CATEGORIES:Legacy Court
END:VEVENT
BEGIN:VEVENT
DTSTART;TZID=America/Chicago:20260102T160000
DTEND;TZID=America/Chicago:20260102T161500
DTSTAMP:20260419T075726
CREATED:20260101T010129Z
LAST-MODIFIED:20260102T010130Z
UID:10004338-1767369600-1767370500@hamiltonhouseseniorliving.com
SUMMARY:Walker's Club
DESCRIPTION:
URL:https://hamiltonhouseseniorliving.com/event-calendar/walkers-club-265/
CATEGORIES:Legacy Court
END:VEVENT
BEGIN:VEVENT
DTSTART;TZID=America/Chicago:20260102T180000
DTEND;TZID=America/Chicago:20260102T190000
DTSTAMP:20260419T075726
CREATED:20251204T000159Z
LAST-MODIFIED:20260102T010131Z
UID:10003930-1767376800-1767380400@hamiltonhouseseniorliving.com
SUMMARY:Jeopardy
DESCRIPTION:
URL:https://hamiltonhouseseniorliving.com/event-calendar/jeopardy-262/
CATEGORIES:Legacy Court
END:VEVENT
END:VCALENDAR