BEGIN:VCALENDAR
VERSION:2.0
PRODID:-//Hamilton House Senior Living - ECPv6.13.0//NONSGML v1.0//EN
CALSCALE:GREGORIAN
METHOD:PUBLISH
X-ORIGINAL-URL:https://hamiltonhouseseniorliving.com
X-WR-CALDESC:Events for Hamilton House Senior Living
REFRESH-INTERVAL;VALUE=DURATION:PT1H
X-Robots-Tag:noindex
X-PUBLISHED-TTL:PT1H
BEGIN:VTIMEZONE
TZID:America/Chicago
BEGIN:DAYLIGHT
TZOFFSETFROM:-0600
TZOFFSETTO:-0500
TZNAME:CDT
DTSTART:20250309T080000
END:DAYLIGHT
BEGIN:STANDARD
TZOFFSETFROM:-0500
TZOFFSETTO:-0600
TZNAME:CST
DTSTART:20251102T070000
END:STANDARD
BEGIN:DAYLIGHT
TZOFFSETFROM:-0600
TZOFFSETTO:-0500
TZNAME:CDT
DTSTART:20260308T080000
END:DAYLIGHT
BEGIN:STANDARD
TZOFFSETFROM:-0500
TZOFFSETTO:-0600
TZNAME:CST
DTSTART:20261101T070000
END:STANDARD
BEGIN:DAYLIGHT
TZOFFSETFROM:-0600
TZOFFSETTO:-0500
TZNAME:CDT
DTSTART:20270314T080000
END:DAYLIGHT
BEGIN:STANDARD
TZOFFSETFROM:-0500
TZOFFSETTO:-0600
TZNAME:CST
DTSTART:20271107T070000
END:STANDARD
BEGIN:DAYLIGHT
TZOFFSETFROM:-0600
TZOFFSETTO:-0500
TZNAME:CDT
DTSTART:20280312T080000
END:DAYLIGHT
BEGIN:STANDARD
TZOFFSETFROM:-0500
TZOFFSETTO:-0600
TZNAME:CST
DTSTART:20281105T070000
END:STANDARD
BEGIN:DAYLIGHT
TZOFFSETFROM:-0600
TZOFFSETTO:-0500
TZNAME:CDT
DTSTART:20290311T080000
END:DAYLIGHT
BEGIN:STANDARD
TZOFFSETFROM:-0500
TZOFFSETTO:-0600
TZNAME:CST
DTSTART:20291104T070000
END:STANDARD
BEGIN:DAYLIGHT
TZOFFSETFROM:-0600
TZOFFSETTO:-0500
TZNAME:CDT
DTSTART:20300310T080000
END:DAYLIGHT
BEGIN:STANDARD
TZOFFSETFROM:-0500
TZOFFSETTO:-0600
TZNAME:CST
DTSTART:20301103T070000
END:STANDARD
END:VTIMEZONE
BEGIN:VEVENT
DTSTART;TZID=America/Chicago:20250802T133000
DTEND;TZID=America/Chicago:20301207T153000
DTSTAMP:20260419T075753
CREATED:20250703T234726Z
LAST-MODIFIED:20251231T010129Z
UID:10001257-1754141400-1922887800@hamiltonhouseseniorliving.com
SUMMARY:Game Show
DESCRIPTION:
URL:https://hamiltonhouseseniorliving.com/event-calendar/at-the-movies-13/
CATEGORIES:Legacy Court
END:VEVENT
BEGIN:VEVENT
DTSTART;TZID=America/Chicago:20251228T110000
DTEND;TZID=America/Chicago:20260125T113000
DTSTAMP:20260419T075753
CREATED:20251227T004632Z
LAST-MODIFIED:20251228T004632Z
UID:10004181-1766919600-1769340600@hamiltonhouseseniorliving.com
SUMMARY:Prepare Oshibori Towels and Snacks
DESCRIPTION:
URL:https://hamiltonhouseseniorliving.com/event-calendar/prepare-oshibori-towels-and-snacks/
LOCATION:Dining Room
CATEGORIES:Legacy Court
END:VEVENT
BEGIN:VEVENT
DTSTART;VALUE=DATE:20260103
DTEND;VALUE=DATE:20260104
DTSTAMP:20260419T075753
CREATED:20251205T000146Z
LAST-MODIFIED:20260102T010130Z
UID:10003934-1767398400-1767484799@hamiltonhouseseniorliving.com
SUMMARY:AM & PM ADLs/1:1 Visits
DESCRIPTION:
URL:https://hamiltonhouseseniorliving.com/event-calendar/am-pm-adls-11-visits-234/
CATEGORIES:Legacy Court
END:VEVENT
BEGIN:VEVENT
DTSTART;VALUE=DATE:20260103
DTEND;VALUE=DATE:20260104
DTSTAMP:20260419T075753
CREATED:20251205T000146Z
LAST-MODIFIED:20260102T010130Z
UID:10003935-1767398400-1767484799@hamiltonhouseseniorliving.com
SUMMARY:DR Set Up/Clean Up
DESCRIPTION:
URL:https://hamiltonhouseseniorliving.com/event-calendar/dr-set-up-clean-up-234/
CATEGORIES:Legacy Court
END:VEVENT
BEGIN:VEVENT
DTSTART;TZID=America/Chicago:20260103T093000
DTEND;TZID=America/Chicago:20260103T103000
DTSTAMP:20260419T075753
CREATED:20251231T010129Z
LAST-MODIFIED:20260103T010131Z
UID:10004276-1767432600-1767436200@hamiltonhouseseniorliving.com
SUMMARY:Game Show
DESCRIPTION:
URL:https://hamiltonhouseseniorliving.com/event-calendar/game-show-336/
CATEGORIES:Legacy Court
END:VEVENT
BEGIN:VEVENT
DTSTART;TZID=America/Chicago:20260103T093000
DTEND;TZID=America/Chicago:20260103T113000
DTSTAMP:20260419T075753
CREATED:20251205T000146Z
LAST-MODIFIED:20251218T003155Z
UID:10003936-1767432600-1767439800@hamiltonhouseseniorliving.com
SUMMARY:Game Show
DESCRIPTION:
URL:https://hamiltonhouseseniorliving.com/event-calendar/game-show-295/
CATEGORIES:Legacy Court
END:VEVENT
BEGIN:VEVENT
DTSTART;TZID=America/Chicago:20260103T110000
DTEND;TZID=America/Chicago:20260103T113000
DTSTAMP:20260419T075753
CREATED:20251231T010129Z
LAST-MODIFIED:20260103T010131Z
UID:10004277-1767438000-1767439800@hamiltonhouseseniorliving.com
SUMMARY:Hymns And Oshibori Prep
DESCRIPTION:
URL:https://hamiltonhouseseniorliving.com/event-calendar/hymns-and-oshibori-prep/
CATEGORIES:Legacy Court
END:VEVENT
BEGIN:VEVENT
DTSTART;TZID=America/Chicago:20260103T130000
DTEND;TZID=America/Chicago:20260103T133000
DTSTAMP:20260419T075753
CREATED:20251231T010129Z
LAST-MODIFIED:20260103T010131Z
UID:10004278-1767445200-1767447000@hamiltonhouseseniorliving.com
SUMMARY:Keepin' Fit
DESCRIPTION:
URL:https://hamiltonhouseseniorliving.com/event-calendar/keepin-fit-193/
CATEGORIES:Legacy Court
END:VEVENT
BEGIN:VEVENT
DTSTART;TZID=America/Chicago:20260103T133000
DTEND;TZID=America/Chicago:20260103T153000
DTSTAMP:20260419T075753
CREATED:20251205T000146Z
LAST-MODIFIED:20251218T003155Z
UID:10003937-1767447000-1767454200@hamiltonhouseseniorliving.com
SUMMARY:At The Movies
DESCRIPTION:
URL:https://hamiltonhouseseniorliving.com/event-calendar/at-the-movies-43/
CATEGORIES:Legacy Court
END:VEVENT
BEGIN:VEVENT
DTSTART;TZID=America/Chicago:20260103T134500
DTEND;TZID=America/Chicago:20260103T141500
DTSTAMP:20260419T075753
CREATED:20251231T010129Z
LAST-MODIFIED:20260103T010131Z
UID:10004279-1767447900-1767449700@hamiltonhouseseniorliving.com
SUMMARY:Snacks With Angela
DESCRIPTION:
URL:https://hamiltonhouseseniorliving.com/event-calendar/snacks-with-angela-3/
CATEGORIES:Legacy Court
END:VEVENT
BEGIN:VEVENT
DTSTART;TZID=America/Chicago:20260103T141500
DTEND;TZID=America/Chicago:20260103T144500
DTSTAMP:20260419T075753
CREATED:20251231T010129Z
LAST-MODIFIED:20260103T010131Z
UID:10004280-1767449700-1767451500@hamiltonhouseseniorliving.com
SUMMARY:Linked Senior Trivia/Games
DESCRIPTION:
URL:https://hamiltonhouseseniorliving.com/event-calendar/linked-senior-trivia-games/
CATEGORIES:Legacy Court
END:VEVENT
BEGIN:VEVENT
DTSTART;TZID=America/Chicago:20260103T150000
DTEND;TZID=America/Chicago:20260103T160000
DTSTAMP:20260419T075753
CREATED:20251231T010129Z
LAST-MODIFIED:20260103T010131Z
UID:10004281-1767452400-1767456000@hamiltonhouseseniorliving.com
SUMMARY:Lutheran Service
DESCRIPTION:
URL:https://hamiltonhouseseniorliving.com/event-calendar/lutheran-service/
CATEGORIES:Legacy Court
END:VEVENT
BEGIN:VEVENT
DTSTART;TZID=America/Chicago:20260103T160000
DTEND;TZID=America/Chicago:20260103T161500
DTSTAMP:20260419T075753
CREATED:20260101T010129Z
LAST-MODIFIED:20260103T010131Z
UID:10004339-1767456000-1767456900@hamiltonhouseseniorliving.com
SUMMARY:Walker's Club
DESCRIPTION:
URL:https://hamiltonhouseseniorliving.com/event-calendar/walkers-club-266/
CATEGORIES:Legacy Court
END:VEVENT
BEGIN:VEVENT
DTSTART;TZID=America/Chicago:20260103T161500
DTEND;TZID=America/Chicago:20260103T163000
DTSTAMP:20260419T075753
CREATED:20251231T010129Z
LAST-MODIFIED:20260103T010131Z
UID:10004282-1767456900-1767457800@hamiltonhouseseniorliving.com
SUMMARY:Oshibori
DESCRIPTION:
URL:https://hamiltonhouseseniorliving.com/event-calendar/oshibori-228/
CATEGORIES:Legacy Court
END:VEVENT
BEGIN:VEVENT
DTSTART;TZID=America/Chicago:20260103T180000
DTEND;TZID=America/Chicago:20260103T190000
DTSTAMP:20260419T075753
CREATED:20251205T000147Z
LAST-MODIFIED:20260103T010143Z
UID:10003938-1767463200-1767466800@hamiltonhouseseniorliving.com
SUMMARY:Jeopardy
DESCRIPTION:
URL:https://hamiltonhouseseniorliving.com/event-calendar/jeopardy-263/
CATEGORIES:Legacy Court
END:VEVENT
END:VCALENDAR