BEGIN:VCALENDAR
VERSION:2.0
PRODID:-//Hamilton House Senior Living - ECPv6.13.0//NONSGML v1.0//EN
CALSCALE:GREGORIAN
METHOD:PUBLISH
X-WR-CALNAME:Hamilton House Senior Living
X-ORIGINAL-URL:https://hamiltonhouseseniorliving.com
X-WR-CALDESC:Events for Hamilton House Senior Living
REFRESH-INTERVAL;VALUE=DURATION:PT1H
X-Robots-Tag:noindex
X-PUBLISHED-TTL:PT1H
BEGIN:VTIMEZONE
TZID:America/Chicago
BEGIN:DAYLIGHT
TZOFFSETFROM:-0600
TZOFFSETTO:-0500
TZNAME:CDT
DTSTART:20260308T080000
END:DAYLIGHT
BEGIN:STANDARD
TZOFFSETFROM:-0500
TZOFFSETTO:-0600
TZNAME:CST
DTSTART:20261101T070000
END:STANDARD
END:VTIMEZONE
BEGIN:VEVENT
DTSTART;VALUE=DATE:20260507
DTEND;VALUE=DATE:20260508
DTSTAMP:20260422T173515
CREATED:20260407T083208Z
LAST-MODIFIED:20260422T091916Z
UID:10005984-1778112000-1778198399@hamiltonhouseseniorliving.com
SUMMARY:AM & PM ADLs/1:1 Visits
DESCRIPTION:
URL:https://hamiltonhouseseniorliving.com/event-calendar/am-pm-adls-11-visits-358/
CATEGORIES:Legacy Court
END:VEVENT
BEGIN:VEVENT
DTSTART;VALUE=DATE:20260507
DTEND;VALUE=DATE:20260508
DTSTAMP:20260422T173515
CREATED:20260407T083208Z
LAST-MODIFIED:20260422T091916Z
UID:10005985-1778112000-1778198399@hamiltonhouseseniorliving.com
SUMMARY:DR Set Up/Clean Up
DESCRIPTION:
URL:https://hamiltonhouseseniorliving.com/event-calendar/dr-set-up-clean-up-358/
CATEGORIES:Legacy Court
END:VEVENT
BEGIN:VEVENT
DTSTART;TZID=America/Chicago:20260506T183000
DTEND;TZID=America/Chicago:20260506T193000
DTSTAMP:20260422T173515
CREATED:20260414T091652Z
LAST-MODIFIED:20260422T091916Z
UID:10006067-1778092200-1778095800@hamiltonhouseseniorliving.com
SUMMARY:Jeopardy
DESCRIPTION:
URL:https://hamiltonhouseseniorliving.com/event-calendar/jeopardy-440/
CATEGORIES:Legacy Court
END:VEVENT
BEGIN:VEVENT
DTSTART;TZID=America/Chicago:20260506T180000
DTEND;TZID=America/Chicago:20260506T190000
DTSTAMP:20260422T173515
CREATED:20260407T083208Z
LAST-MODIFIED:20260413T091656Z
UID:10005983-1778090400-1778094000@hamiltonhouseseniorliving.com
SUMMARY:Jeopardy
DESCRIPTION:
URL:https://hamiltonhouseseniorliving.com/event-calendar/jeopardy-414/
CATEGORIES:Legacy Court
END:VEVENT
BEGIN:VEVENT
DTSTART;TZID=America/Chicago:20260506T160000
DTEND;TZID=America/Chicago:20260506T161500
DTSTAMP:20260422T173515
CREATED:20260407T083208Z
LAST-MODIFIED:20260422T091916Z
UID:10005982-1778083200-1778084100@hamiltonhouseseniorliving.com
SUMMARY:Walker's Club
DESCRIPTION:
URL:https://hamiltonhouseseniorliving.com/event-calendar/walkers-club-389/
CATEGORIES:Legacy Court
END:VEVENT
BEGIN:VEVENT
DTSTART;TZID=America/Chicago:20260506T153000
DTEND;TZID=America/Chicago:20260506T161500
DTSTAMP:20260422T173515
CREATED:20260422T091641Z
LAST-MODIFIED:20260422T091916Z
UID:10006162-1778081400-1778084100@hamiltonhouseseniorliving.com
SUMMARY:Honey Bunnies Cheer Huddle
DESCRIPTION:
URL:https://hamiltonhouseseniorliving.com/event-calendar/honey-bunnies-cheer-huddle/
CATEGORIES:Legacy Court
END:VEVENT
BEGIN:VEVENT
DTSTART;TZID=America/Chicago:20260506T141500
DTEND;TZID=America/Chicago:20260506T150000
DTSTAMP:20260422T173515
CREATED:20260422T091641Z
LAST-MODIFIED:20260422T091916Z
UID:10006161-1778076900-1778079600@hamiltonhouseseniorliving.com
SUMMARY:Popcorn And Soda Social
DESCRIPTION:
URL:https://hamiltonhouseseniorliving.com/event-calendar/popcorn-and-soda-social-17/
CATEGORIES:Legacy Court
END:VEVENT
BEGIN:VEVENT
DTSTART;TZID=America/Chicago:20260506T133000
DTEND;TZID=America/Chicago:20260506T141500
DTSTAMP:20260422T173515
CREATED:20260422T091641Z
LAST-MODIFIED:20260422T091916Z
UID:10006160-1778074200-1778076900@hamiltonhouseseniorliving.com
SUMMARY:Sit And Be Fit
DESCRIPTION:
URL:https://hamiltonhouseseniorliving.com/event-calendar/sit-and-be-fit-109/
CATEGORIES:Legacy Court
END:VEVENT
BEGIN:VEVENT
DTSTART;TZID=America/Chicago:20260506T133000
DTEND;TZID=America/Chicago:20260506T140000
DTSTAMP:20260422T173515
CREATED:20260407T083208Z
LAST-MODIFIED:20260413T091656Z
UID:10005981-1778074200-1778076000@hamiltonhouseseniorliving.com
SUMMARY:Sit And Be Fit
DESCRIPTION:
URL:https://hamiltonhouseseniorliving.com/event-calendar/sit-and-be-fit-97/
CATEGORIES:Legacy Court
END:VEVENT
BEGIN:VEVENT
DTSTART;TZID=America/Chicago:20260506T111500
DTEND;TZID=America/Chicago:20260506T113000
DTSTAMP:20260422T173515
CREATED:20260407T083208Z
LAST-MODIFIED:20260422T091904Z
UID:10005980-1778066100-1778067000@hamiltonhouseseniorliving.com
SUMMARY:Oshibori
DESCRIPTION:
URL:https://hamiltonhouseseniorliving.com/event-calendar/oshibori-353/
CATEGORIES:Legacy Court
END:VEVENT
BEGIN:VEVENT
DTSTART;TZID=America/Chicago:20260506T104500
DTEND;TZID=America/Chicago:20260506T111500
DTSTAMP:20260422T173515
CREATED:20260422T091641Z
LAST-MODIFIED:20260422T091904Z
UID:10006159-1778064300-1778066100@hamiltonhouseseniorliving.com
SUMMARY:Bible Trivia
DESCRIPTION:
URL:https://hamiltonhouseseniorliving.com/event-calendar/bible-trivia-32/
CATEGORIES:Legacy Court
END:VEVENT
BEGIN:VEVENT
DTSTART;TZID=America/Chicago:20260506T101500
DTEND;TZID=America/Chicago:20260506T111500
DTSTAMP:20260422T173515
CREATED:20260407T083208Z
LAST-MODIFIED:20260422T091916Z
UID:10005979-1778062500-1778066100@hamiltonhouseseniorliving.com
SUMMARY:Communion With Karen
DESCRIPTION:
URL:https://hamiltonhouseseniorliving.com/event-calendar/communion-with-karen-31/
CATEGORIES:Legacy Court
END:VEVENT
BEGIN:VEVENT
DTSTART;TZID=America/Chicago:20260506T083000
DTEND;TZID=America/Chicago:20260506T093000
DTSTAMP:20260422T173515
CREATED:20260407T083208Z
LAST-MODIFIED:20260422T091904Z
UID:10005978-1778056200-1778059800@hamiltonhouseseniorliving.com
SUMMARY:Game Show
DESCRIPTION:
URL:https://hamiltonhouseseniorliving.com/event-calendar/game-show-458/
CATEGORIES:Legacy Court
END:VEVENT
BEGIN:VEVENT
DTSTART;VALUE=DATE:20260506
DTEND;VALUE=DATE:20260507
DTSTAMP:20260422T173515
CREATED:20260406T081749Z
LAST-MODIFIED:20260422T091903Z
UID:10005976-1778025600-1778111999@hamiltonhouseseniorliving.com
SUMMARY:AM & PM ADLs/1:1 Visits
DESCRIPTION:
URL:https://hamiltonhouseseniorliving.com/event-calendar/am-pm-adls-11-visits-357/
CATEGORIES:Legacy Court
END:VEVENT
BEGIN:VEVENT
DTSTART;VALUE=DATE:20260506
DTEND;VALUE=DATE:20260507
DTSTAMP:20260422T173515
CREATED:20260406T081749Z
LAST-MODIFIED:20260422T091904Z
UID:10005977-1778025600-1778111999@hamiltonhouseseniorliving.com
SUMMARY:DR Set Up/Clean Up
DESCRIPTION:
URL:https://hamiltonhouseseniorliving.com/event-calendar/dr-set-up-clean-up-357/
CATEGORIES:Legacy Court
END:VEVENT
BEGIN:VEVENT
DTSTART;TZID=America/Chicago:20260505T183000
DTEND;TZID=America/Chicago:20260505T193000
DTSTAMP:20260422T173515
CREATED:20260414T091651Z
LAST-MODIFIED:20260422T091903Z
UID:10006066-1778005800-1778009400@hamiltonhouseseniorliving.com
SUMMARY:Jeopardy
DESCRIPTION:
URL:https://hamiltonhouseseniorliving.com/event-calendar/jeopardy-439/
CATEGORIES:Legacy Court
END:VEVENT
BEGIN:VEVENT
DTSTART;TZID=America/Chicago:20260505T180000
DTEND;TZID=America/Chicago:20260505T190000
DTSTAMP:20260422T173515
CREATED:20260406T081748Z
LAST-MODIFIED:20260413T091655Z
UID:10005975-1778004000-1778007600@hamiltonhouseseniorliving.com
SUMMARY:Jeopardy
DESCRIPTION:
URL:https://hamiltonhouseseniorliving.com/event-calendar/jeopardy-413/
CATEGORIES:Legacy Court
END:VEVENT
BEGIN:VEVENT
DTSTART;TZID=America/Chicago:20260505T160000
DTEND;TZID=America/Chicago:20260505T161500
DTSTAMP:20260422T173515
CREATED:20260406T081748Z
LAST-MODIFIED:20260422T091903Z
UID:10005974-1777996800-1777997700@hamiltonhouseseniorliving.com
SUMMARY:Walker's Club
DESCRIPTION:
URL:https://hamiltonhouseseniorliving.com/event-calendar/walkers-club-388/
CATEGORIES:Legacy Court
END:VEVENT
BEGIN:VEVENT
DTSTART;TZID=America/Chicago:20260505T150000
DTEND;TZID=America/Chicago:20260505T160000
DTSTAMP:20260422T173515
CREATED:20260406T081748Z
LAST-MODIFIED:20260422T091903Z
UID:10005973-1777993200-1777996800@hamiltonhouseseniorliving.com
SUMMARY:Tall Tales - Visual Story Telling
DESCRIPTION:
URL:https://hamiltonhouseseniorliving.com/event-calendar/tall-tales-visual-story-telling-5/
CATEGORIES:Legacy Court
END:VEVENT
BEGIN:VEVENT
DTSTART;TZID=America/Chicago:20260505T141500
DTEND;TZID=America/Chicago:20260505T150000
DTSTAMP:20260422T173515
CREATED:20260422T091640Z
LAST-MODIFIED:20260422T091903Z
UID:10006158-1777990500-1777993200@hamiltonhouseseniorliving.com
SUMMARY:Cinco de Mayo Social
DESCRIPTION:Chips and Salsa and Mexican Soda (Jarritos)
URL:https://hamiltonhouseseniorliving.com/event-calendar/cinco-de-mayo-social/
CATEGORIES:Legacy Court
END:VEVENT
BEGIN:VEVENT
DTSTART;TZID=America/Chicago:20260505T133000
DTEND;TZID=America/Chicago:20260505T140000
DTSTAMP:20260422T173515
CREATED:20260406T081748Z
LAST-MODIFIED:20260413T091655Z
UID:10005972-1777987800-1777989600@hamiltonhouseseniorliving.com
SUMMARY:Sit And Be Fit
DESCRIPTION:
URL:https://hamiltonhouseseniorliving.com/event-calendar/sit-and-be-fit-96/
CATEGORIES:Legacy Court
END:VEVENT
BEGIN:VEVENT
DTSTART;TZID=America/Chicago:20260505T130000
DTEND;TZID=America/Chicago:20260505T140000
DTSTAMP:20260422T173515
CREATED:20260406T081748Z
LAST-MODIFIED:20260422T091903Z
UID:10005971-1777986000-1777989600@hamiltonhouseseniorliving.com
SUMMARY:Lifespark Robot Soccer League
DESCRIPTION:
URL:https://hamiltonhouseseniorliving.com/event-calendar/lifespark-whizzer-competition-13/
CATEGORIES:Legacy Court
END:VEVENT
BEGIN:VEVENT
DTSTART;TZID=America/Chicago:20260505T111500
DTEND;TZID=America/Chicago:20260505T113000
DTSTAMP:20260422T173515
CREATED:20260406T081748Z
LAST-MODIFIED:20260422T091852Z
UID:10005970-1777979700-1777980600@hamiltonhouseseniorliving.com
SUMMARY:Oshibori
DESCRIPTION:
URL:https://hamiltonhouseseniorliving.com/event-calendar/oshibori-352/
CATEGORIES:Legacy Court
END:VEVENT
BEGIN:VEVENT
DTSTART;TZID=America/Chicago:20260505T104500
DTEND;TZID=America/Chicago:20260505T111500
DTSTAMP:20260422T173515
CREATED:20260406T081747Z
LAST-MODIFIED:20260422T091852Z
UID:10005969-1777977900-1777979700@hamiltonhouseseniorliving.com
SUMMARY:Hymns and Reflections
DESCRIPTION:
URL:https://hamiltonhouseseniorliving.com/event-calendar/devotions-and-hymns-6/
CATEGORIES:Legacy Court
END:VEVENT
BEGIN:VEVENT
DTSTART;TZID=America/Chicago:20260505T101500
DTEND;TZID=America/Chicago:20260505T104500
DTSTAMP:20260422T173515
CREATED:20260414T091651Z
LAST-MODIFIED:20260422T091852Z
UID:10006065-1777976100-1777977900@hamiltonhouseseniorliving.com
SUMMARY:Sit And Be Fit
DESCRIPTION:
URL:https://hamiltonhouseseniorliving.com/event-calendar/sit-and-be-fit-105/
CATEGORIES:Legacy Court
END:VEVENT
BEGIN:VEVENT
DTSTART;TZID=America/Chicago:20260505T093000
DTEND;TZID=America/Chicago:20260505T120000
DTSTAMP:20260422T173515
CREATED:20260422T091639Z
LAST-MODIFIED:20260422T091852Z
UID:10006157-1777973400-1777982400@hamiltonhouseseniorliving.com
SUMMARY:Podiatrist
DESCRIPTION:
URL:https://hamiltonhouseseniorliving.com/event-calendar/podiatrist/
CATEGORIES:Legacy Court
END:VEVENT
BEGIN:VEVENT
DTSTART;TZID=America/Chicago:20260505T083000
DTEND;TZID=America/Chicago:20260505T093000
DTSTAMP:20260422T173515
CREATED:20260406T081747Z
LAST-MODIFIED:20260422T091852Z
UID:10005968-1777969800-1777973400@hamiltonhouseseniorliving.com
SUMMARY:Game Show
DESCRIPTION:
URL:https://hamiltonhouseseniorliving.com/event-calendar/game-show-457/
CATEGORIES:Legacy Court
END:VEVENT
BEGIN:VEVENT
DTSTART;VALUE=DATE:20260505
DTEND;VALUE=DATE:20260506
DTSTAMP:20260422T173515
CREATED:20260405T081737Z
LAST-MODIFIED:20260422T091852Z
UID:10005966-1777939200-1778025599@hamiltonhouseseniorliving.com
SUMMARY:AM & PM ADLs/1:1 Visits
DESCRIPTION:
URL:https://hamiltonhouseseniorliving.com/event-calendar/am-pm-adls-11-visits-356/
CATEGORIES:Legacy Court
END:VEVENT
BEGIN:VEVENT
DTSTART;VALUE=DATE:20260505
DTEND;VALUE=DATE:20260506
DTSTAMP:20260422T173515
CREATED:20260405T081737Z
LAST-MODIFIED:20260422T091852Z
UID:10005967-1777939200-1778025599@hamiltonhouseseniorliving.com
SUMMARY:DR Set Up/Clean Up
DESCRIPTION:
URL:https://hamiltonhouseseniorliving.com/event-calendar/dr-set-up-clean-up-356/
CATEGORIES:Legacy Court
END:VEVENT
BEGIN:VEVENT
DTSTART;TZID=America/Chicago:20260504T181500
DTEND;TZID=America/Chicago:20260504T183500
DTSTAMP:20260422T173515
CREATED:20260405T081737Z
LAST-MODIFIED:20260422T091852Z
UID:10005965-1777918500-1777919700@hamiltonhouseseniorliving.com
SUMMARY:Night-time Devotion
DESCRIPTION:
URL:https://hamiltonhouseseniorliving.com/event-calendar/night-time-devotion-5/
CATEGORIES:Legacy Court
END:VEVENT
END:VCALENDAR