BEGIN:VCALENDAR
VERSION:2.0
PRODID:-//Hamilton House Senior Living - ECPv6.13.0//NONSGML v1.0//EN
CALSCALE:GREGORIAN
METHOD:PUBLISH
X-WR-CALNAME:Hamilton House Senior Living
X-ORIGINAL-URL:https://hamiltonhouseseniorliving.com
X-WR-CALDESC:Events for Hamilton House Senior Living
REFRESH-INTERVAL;VALUE=DURATION:PT1H
X-Robots-Tag:noindex
X-PUBLISHED-TTL:PT1H
BEGIN:VTIMEZONE
TZID:America/Chicago
BEGIN:DAYLIGHT
TZOFFSETFROM:-0600
TZOFFSETTO:-0500
TZNAME:CDT
DTSTART:20260308T080000
END:DAYLIGHT
BEGIN:STANDARD
TZOFFSETFROM:-0500
TZOFFSETTO:-0600
TZNAME:CST
DTSTART:20261101T070000
END:STANDARD
END:VTIMEZONE
BEGIN:VEVENT
DTSTART;TZID=America/Chicago:20260523T133000
DTEND;TZID=America/Chicago:20260523T153000
DTSTAMP:20260424T085819
CREATED:20260424T093213Z
LAST-MODIFIED:20260424T093213Z
UID:10006209-1779543000-1779550200@hamiltonhouseseniorliving.com
SUMMARY:At The Movies
DESCRIPTION:
URL:https://hamiltonhouseseniorliving.com/event-calendar/at-the-movies-55/
CATEGORIES:Legacy Court
END:VEVENT
BEGIN:VEVENT
DTSTART;TZID=America/Chicago:20260523T153000
DTEND;TZID=America/Chicago:20260523T160000
DTSTAMP:20260424T085819
CREATED:20260424T093213Z
LAST-MODIFIED:20260424T093213Z
UID:10006210-1779550200-1779552000@hamiltonhouseseniorliving.com
SUMMARY:Color My Stress Away
DESCRIPTION:
URL:https://hamiltonhouseseniorliving.com/event-calendar/color-my-stress-away-37/
CATEGORIES:Legacy Court
END:VEVENT
BEGIN:VEVENT
DTSTART;TZID=America/Chicago:20260523T160000
DTEND;TZID=America/Chicago:20260523T161500
DTSTAMP:20260424T085819
CREATED:20260424T093213Z
LAST-MODIFIED:20260424T093213Z
UID:10006211-1779552000-1779552900@hamiltonhouseseniorliving.com
SUMMARY:Walker's Club
DESCRIPTION:
URL:https://hamiltonhouseseniorliving.com/event-calendar/walkers-club-406/
CATEGORIES:Legacy Court
END:VEVENT
BEGIN:VEVENT
DTSTART;TZID=America/Chicago:20260523T183000
DTEND;TZID=America/Chicago:20260523T193000
DTSTAMP:20260424T085819
CREATED:20260424T093213Z
LAST-MODIFIED:20260424T093213Z
UID:10006212-1779561000-1779564600@hamiltonhouseseniorliving.com
SUMMARY:Jeopardy
DESCRIPTION:
URL:https://hamiltonhouseseniorliving.com/event-calendar/jeopardy-457/
CATEGORIES:Legacy Court
END:VEVENT
BEGIN:VEVENT
DTSTART;VALUE=DATE:20260524
DTEND;VALUE=DATE:20260525
DTSTAMP:20260424T085819
CREATED:20260424T093214Z
LAST-MODIFIED:20260424T093214Z
UID:10006213-1779580800-1779667199@hamiltonhouseseniorliving.com
SUMMARY:AM & PM ADLs/1:1 Visits
DESCRIPTION:
URL:https://hamiltonhouseseniorliving.com/event-calendar/am-pm-adls-11-visits-375/
CATEGORIES:Legacy Court
END:VEVENT
BEGIN:VEVENT
DTSTART;VALUE=DATE:20260524
DTEND;VALUE=DATE:20260525
DTSTAMP:20260424T085819
CREATED:20260424T093214Z
LAST-MODIFIED:20260424T093214Z
UID:10006214-1779580800-1779667199@hamiltonhouseseniorliving.com
SUMMARY:DR Set Up/Clean Up
DESCRIPTION:
URL:https://hamiltonhouseseniorliving.com/event-calendar/dr-set-up-clean-up-375/
CATEGORIES:Legacy Court
END:VEVENT
END:VCALENDAR