BEGIN:VCALENDAR
VERSION:2.0
PRODID:-//Hamilton House Senior Living - ECPv6.13.0//NONSGML v1.0//EN
CALSCALE:GREGORIAN
METHOD:PUBLISH
X-WR-CALNAME:Hamilton House Senior Living
X-ORIGINAL-URL:https://hamiltonhouseseniorliving.com
X-WR-CALDESC:Events for Hamilton House Senior Living
REFRESH-INTERVAL;VALUE=DURATION:PT1H
X-Robots-Tag:noindex
X-PUBLISHED-TTL:PT1H
BEGIN:VTIMEZONE
TZID:America/Chicago
BEGIN:DAYLIGHT
TZOFFSETFROM:-0600
TZOFFSETTO:-0500
TZNAME:CDT
DTSTART:20260308T080000
END:DAYLIGHT
BEGIN:STANDARD
TZOFFSETFROM:-0500
TZOFFSETTO:-0600
TZNAME:CST
DTSTART:20261101T070000
END:STANDARD
END:VTIMEZONE
BEGIN:VEVENT
DTSTART;TZID=America/Chicago:20260521T150000
DTEND;TZID=America/Chicago:20260521T154500
DTSTAMP:20260422T172351
CREATED:20260422T091654Z
LAST-MODIFIED:20260422T092223Z
UID:10006192-1779375600-1779378300@hamiltonhouseseniorliving.com
SUMMARY:Hand Massages
DESCRIPTION:
URL:https://hamiltonhouseseniorliving.com/event-calendar/hand-massages-31/
CATEGORIES:Legacy Court
END:VEVENT
BEGIN:VEVENT
DTSTART;TZID=America/Chicago:20260521T160000
DTEND;TZID=America/Chicago:20260521T161500
DTSTAMP:20260422T172351
CREATED:20260422T091654Z
LAST-MODIFIED:20260422T092223Z
UID:10006193-1779379200-1779380100@hamiltonhouseseniorliving.com
SUMMARY:Walker's Club
DESCRIPTION:
URL:https://hamiltonhouseseniorliving.com/event-calendar/walkers-club-404/
CATEGORIES:Legacy Court
END:VEVENT
BEGIN:VEVENT
DTSTART;TZID=America/Chicago:20260521T183000
DTEND;TZID=America/Chicago:20260521T193000
DTSTAMP:20260422T172351
CREATED:20260422T091654Z
LAST-MODIFIED:20260422T092223Z
UID:10006194-1779388200-1779391800@hamiltonhouseseniorliving.com
SUMMARY:Jeopardy
DESCRIPTION:
URL:https://hamiltonhouseseniorliving.com/event-calendar/jeopardy-455/
CATEGORIES:Legacy Court
END:VEVENT
BEGIN:VEVENT
DTSTART;VALUE=DATE:20260522
DTEND;VALUE=DATE:20260523
DTSTAMP:20260422T172351
CREATED:20260422T091654Z
LAST-MODIFIED:20260422T092223Z
UID:10006195-1779408000-1779494399@hamiltonhouseseniorliving.com
SUMMARY:AM & PM ADLs/1:1 Visits
DESCRIPTION:
URL:https://hamiltonhouseseniorliving.com/event-calendar/am-pm-adls-11-visits-373/
CATEGORIES:Legacy Court
END:VEVENT
BEGIN:VEVENT
DTSTART;VALUE=DATE:20260522
DTEND;VALUE=DATE:20260523
DTSTAMP:20260422T172351
CREATED:20260422T091654Z
LAST-MODIFIED:20260422T092223Z
UID:10006196-1779408000-1779494399@hamiltonhouseseniorliving.com
SUMMARY:DR Set Up/Clean Up
DESCRIPTION:
URL:https://hamiltonhouseseniorliving.com/event-calendar/dr-set-up-clean-up-373/
CATEGORIES:Legacy Court
END:VEVENT
END:VCALENDAR