BEGIN:VCALENDAR
VERSION:2.0
PRODID:-//Hamilton House Senior Living - ECPv6.13.0//NONSGML v1.0//EN
CALSCALE:GREGORIAN
METHOD:PUBLISH
X-ORIGINAL-URL:https://hamiltonhouseseniorliving.com
X-WR-CALDESC:Events for Hamilton House Senior Living
REFRESH-INTERVAL;VALUE=DURATION:PT1H
X-Robots-Tag:noindex
X-PUBLISHED-TTL:PT1H
BEGIN:VTIMEZONE
TZID:America/Chicago
BEGIN:DAYLIGHT
TZOFFSETFROM:-0600
TZOFFSETTO:-0500
TZNAME:CDT
DTSTART:20260308T080000
END:DAYLIGHT
BEGIN:STANDARD
TZOFFSETFROM:-0500
TZOFFSETTO:-0600
TZNAME:CST
DTSTART:20261101T070000
END:STANDARD
END:VTIMEZONE
BEGIN:VEVENT
DTSTART;VALUE=DATE:20260521
DTEND;VALUE=DATE:20260522
DTSTAMP:20260423T052145
CREATED:20260421T091706Z
LAST-MODIFIED:20260423T093156Z
UID:10006151-1779321600-1779407999@hamiltonhouseseniorliving.com
SUMMARY:DR Set Up/Clean Up
DESCRIPTION:
URL:https://hamiltonhouseseniorliving.com/event-calendar/dr-set-up-clean-up-372/
CATEGORIES:Legacy Court
END:VEVENT
BEGIN:VEVENT
DTSTART;TZID=America/Chicago:20260521T083000
DTEND;TZID=America/Chicago:20260521T093000
DTSTAMP:20260423T052145
CREATED:20260422T091653Z
LAST-MODIFIED:20260423T093156Z
UID:10006187-1779352200-1779355800@hamiltonhouseseniorliving.com
SUMMARY:Game Show
DESCRIPTION:
URL:https://hamiltonhouseseniorliving.com/event-calendar/game-show-473/
CATEGORIES:Legacy Court
END:VEVENT
BEGIN:VEVENT
DTSTART;TZID=America/Chicago:20260521T101500
DTEND;TZID=America/Chicago:20260521T111500
DTSTAMP:20260423T052145
CREATED:20260422T091653Z
LAST-MODIFIED:20260423T093156Z
UID:10006188-1779358500-1779362100@hamiltonhouseseniorliving.com
SUMMARY:Non-Denominational Church
DESCRIPTION:
URL:https://hamiltonhouseseniorliving.com/event-calendar/non-denominational-church-55/
CATEGORIES:Legacy Court
END:VEVENT
BEGIN:VEVENT
DTSTART;TZID=America/Chicago:20260521T111500
DTEND;TZID=America/Chicago:20260521T113000
DTSTAMP:20260423T052145
CREATED:20260422T091653Z
LAST-MODIFIED:20260423T093156Z
UID:10006189-1779362100-1779363000@hamiltonhouseseniorliving.com
SUMMARY:Oshibori
DESCRIPTION:
URL:https://hamiltonhouseseniorliving.com/event-calendar/oshibori-369/
CATEGORIES:Legacy Court
END:VEVENT
BEGIN:VEVENT
DTSTART;TZID=America/Chicago:20260521T133000
DTEND;TZID=America/Chicago:20260521T140000
DTSTAMP:20260423T052145
CREATED:20260422T091654Z
LAST-MODIFIED:20260423T093157Z
UID:10006190-1779370200-1779372000@hamiltonhouseseniorliving.com
SUMMARY:Sit and Be Fit
DESCRIPTION:
URL:https://hamiltonhouseseniorliving.com/event-calendar/sit-and-be-fit-111/
CATEGORIES:Legacy Court
END:VEVENT
BEGIN:VEVENT
DTSTART;TZID=America/Chicago:20260521T141500
DTEND;TZID=America/Chicago:20260521T151500
DTSTAMP:20260423T052145
CREATED:20260422T091654Z
LAST-MODIFIED:20260423T093157Z
UID:10006191-1779372900-1779376500@hamiltonhouseseniorliving.com
SUMMARY:National Strawberries and Cream Social
DESCRIPTION:Either vanilla ice cream with strawberries or strawberries and cream ice cream
URL:https://hamiltonhouseseniorliving.com/event-calendar/national-strawberries-and-cream-social/
CATEGORIES:Legacy Court
END:VEVENT
BEGIN:VEVENT
DTSTART;TZID=America/Chicago:20260521T150000
DTEND;TZID=America/Chicago:20260521T154500
DTSTAMP:20260423T052145
CREATED:20260422T091654Z
LAST-MODIFIED:20260423T093157Z
UID:10006192-1779375600-1779378300@hamiltonhouseseniorliving.com
SUMMARY:Hand Massages
DESCRIPTION:
URL:https://hamiltonhouseseniorliving.com/event-calendar/hand-massages-31/
CATEGORIES:Legacy Court
END:VEVENT
BEGIN:VEVENT
DTSTART;TZID=America/Chicago:20260521T160000
DTEND;TZID=America/Chicago:20260521T161500
DTSTAMP:20260423T052145
CREATED:20260422T091654Z
LAST-MODIFIED:20260423T093157Z
UID:10006193-1779379200-1779380100@hamiltonhouseseniorliving.com
SUMMARY:Walker's Club
DESCRIPTION:
URL:https://hamiltonhouseseniorliving.com/event-calendar/walkers-club-404/
CATEGORIES:Legacy Court
END:VEVENT
BEGIN:VEVENT
DTSTART;TZID=America/Chicago:20260521T183000
DTEND;TZID=America/Chicago:20260521T193000
DTSTAMP:20260423T052145
CREATED:20260422T091654Z
LAST-MODIFIED:20260423T093157Z
UID:10006194-1779388200-1779391800@hamiltonhouseseniorliving.com
SUMMARY:Jeopardy
DESCRIPTION:
URL:https://hamiltonhouseseniorliving.com/event-calendar/jeopardy-455/
CATEGORIES:Legacy Court
END:VEVENT
BEGIN:VEVENT
DTSTART;VALUE=DATE:20260522
DTEND;VALUE=DATE:20260523
DTSTAMP:20260423T052145
CREATED:20260422T091654Z
LAST-MODIFIED:20260423T093157Z
UID:10006195-1779408000-1779494399@hamiltonhouseseniorliving.com
SUMMARY:AM & PM ADLs/1:1 Visits
DESCRIPTION:
URL:https://hamiltonhouseseniorliving.com/event-calendar/am-pm-adls-11-visits-373/
CATEGORIES:Legacy Court
END:VEVENT
BEGIN:VEVENT
DTSTART;VALUE=DATE:20260522
DTEND;VALUE=DATE:20260523
DTSTAMP:20260423T052145
CREATED:20260422T091654Z
LAST-MODIFIED:20260423T093157Z
UID:10006196-1779408000-1779494399@hamiltonhouseseniorliving.com
SUMMARY:DR Set Up/Clean Up
DESCRIPTION:
URL:https://hamiltonhouseseniorliving.com/event-calendar/dr-set-up-clean-up-373/
CATEGORIES:Legacy Court
END:VEVENT
BEGIN:VEVENT
DTSTART;TZID=America/Chicago:20260522T083000
DTEND;TZID=America/Chicago:20260522T093000
DTSTAMP:20260423T052145
CREATED:20260423T093158Z
LAST-MODIFIED:20260423T093158Z
UID:10006197-1779438600-1779442200@hamiltonhouseseniorliving.com
SUMMARY:Game Show
DESCRIPTION:
URL:https://hamiltonhouseseniorliving.com/event-calendar/game-show-474/
CATEGORIES:Legacy Court
END:VEVENT
BEGIN:VEVENT
DTSTART;TZID=America/Chicago:20260522T101500
DTEND;TZID=America/Chicago:20260522T111500
DTSTAMP:20260423T052145
CREATED:20260423T093158Z
LAST-MODIFIED:20260423T093158Z
UID:10006198-1779444900-1779448500@hamiltonhouseseniorliving.com
SUMMARY:Bible Study With Chaplain Wyler
DESCRIPTION:
URL:https://hamiltonhouseseniorliving.com/event-calendar/bible-study-with-chaplain-wyler-31/
CATEGORIES:Legacy Court
END:VEVENT
BEGIN:VEVENT
DTSTART;TZID=America/Chicago:20260522T111500
DTEND;TZID=America/Chicago:20260522T113000
DTSTAMP:20260423T052145
CREATED:20260423T093158Z
LAST-MODIFIED:20260423T093158Z
UID:10006199-1779448500-1779449400@hamiltonhouseseniorliving.com
SUMMARY:Oshibori
DESCRIPTION:
URL:https://hamiltonhouseseniorliving.com/event-calendar/oshibori-370/
CATEGORIES:Legacy Court
END:VEVENT
BEGIN:VEVENT
DTSTART;TZID=America/Chicago:20260522T130000
DTEND;TZID=America/Chicago:20260522T134500
DTSTAMP:20260423T052145
CREATED:20260423T093158Z
LAST-MODIFIED:20260423T093158Z
UID:10006200-1779454800-1779457500@hamiltonhouseseniorliving.com
SUMMARY:The Really Big Show
DESCRIPTION:
URL:https://hamiltonhouseseniorliving.com/event-calendar/the-really-big-show-25/
CATEGORIES:Legacy Court
END:VEVENT
BEGIN:VEVENT
DTSTART;TZID=America/Chicago:20260522T130000
DTEND;TZID=America/Chicago:20260522T140000
DTSTAMP:20260423T052145
CREATED:20260423T093159Z
LAST-MODIFIED:20260423T093159Z
UID:10006201-1779454800-1779458400@hamiltonhouseseniorliving.com
SUMMARY:Noodle Volleyball
DESCRIPTION:
URL:https://hamiltonhouseseniorliving.com/event-calendar/noodle-volleyball/
CATEGORIES:Legacy Court
END:VEVENT
BEGIN:VEVENT
DTSTART;TZID=America/Chicago:20260522T140000
DTEND;TZID=America/Chicago:20260522T150000
DTSTAMP:20260423T052145
CREATED:20260423T093159Z
LAST-MODIFIED:20260423T093159Z
UID:10006202-1779458400-1779462000@hamiltonhouseseniorliving.com
SUMMARY:National Vanilla Pudding Day Social
DESCRIPTION:Vanilla Pudding Cups
URL:https://hamiltonhouseseniorliving.com/event-calendar/national-vanilla-pudding-day-social/
CATEGORIES:Legacy Court
END:VEVENT
BEGIN:VEVENT
DTSTART;TZID=America/Chicago:20260522T150000
DTEND;TZID=America/Chicago:20260522T160000
DTSTAMP:20260423T052145
CREATED:20260423T093159Z
LAST-MODIFIED:20260423T093159Z
UID:10006203-1779462000-1779465600@hamiltonhouseseniorliving.com
SUMMARY:250th Anniversary Flag Raising Event
DESCRIPTION:
URL:https://hamiltonhouseseniorliving.com/event-calendar/250th-anniversary-flag-raising-event/
CATEGORIES:Legacy Court
END:VEVENT
BEGIN:VEVENT
DTSTART;TZID=America/Chicago:20260522T160000
DTEND;TZID=America/Chicago:20260522T161500
DTSTAMP:20260423T052145
CREATED:20260423T093159Z
LAST-MODIFIED:20260423T093159Z
UID:10006204-1779465600-1779466500@hamiltonhouseseniorliving.com
SUMMARY:Walker's Club
DESCRIPTION:
URL:https://hamiltonhouseseniorliving.com/event-calendar/walkers-club-405/
CATEGORIES:Legacy Court
END:VEVENT
BEGIN:VEVENT
DTSTART;TZID=America/Chicago:20260522T183000
DTEND;TZID=America/Chicago:20260522T193000
DTSTAMP:20260423T052145
CREATED:20260423T093200Z
LAST-MODIFIED:20260423T093200Z
UID:10006205-1779474600-1779478200@hamiltonhouseseniorliving.com
SUMMARY:Jeopardy
DESCRIPTION:
URL:https://hamiltonhouseseniorliving.com/event-calendar/jeopardy-456/
CATEGORIES:Legacy Court
END:VEVENT
BEGIN:VEVENT
DTSTART;VALUE=DATE:20260523
DTEND;VALUE=DATE:20260524
DTSTAMP:20260423T052145
CREATED:20260423T093200Z
LAST-MODIFIED:20260423T093200Z
UID:10006206-1779494400-1779580799@hamiltonhouseseniorliving.com
SUMMARY:AM & PM ADLs/1:1 Visits
DESCRIPTION:
URL:https://hamiltonhouseseniorliving.com/event-calendar/am-pm-adls-11-visits-374/
CATEGORIES:Legacy Court
END:VEVENT
BEGIN:VEVENT
DTSTART;VALUE=DATE:20260523
DTEND;VALUE=DATE:20260524
DTSTAMP:20260423T052145
CREATED:20260423T093201Z
LAST-MODIFIED:20260423T093201Z
UID:10006207-1779494400-1779580799@hamiltonhouseseniorliving.com
SUMMARY:DR Set Up/Clean Up
DESCRIPTION:
URL:https://hamiltonhouseseniorliving.com/event-calendar/dr-set-up-clean-up-374/
CATEGORIES:Legacy Court
END:VEVENT
END:VCALENDAR