BEGIN:VCALENDAR
VERSION:2.0
PRODID:-//Hamilton House Senior Living - ECPv6.13.0//NONSGML v1.0//EN
CALSCALE:GREGORIAN
METHOD:PUBLISH
X-WR-CALNAME:Hamilton House Senior Living
X-ORIGINAL-URL:https://hamiltonhouseseniorliving.com
X-WR-CALDESC:Events for Hamilton House Senior Living
REFRESH-INTERVAL;VALUE=DURATION:PT1H
X-Robots-Tag:noindex
X-PUBLISHED-TTL:PT1H
BEGIN:VTIMEZONE
TZID:America/Chicago
BEGIN:DAYLIGHT
TZOFFSETFROM:-0600
TZOFFSETTO:-0500
TZNAME:CDT
DTSTART:20260308T080000
END:DAYLIGHT
BEGIN:STANDARD
TZOFFSETFROM:-0500
TZOFFSETTO:-0600
TZNAME:CST
DTSTART:20261101T070000
END:STANDARD
END:VTIMEZONE
BEGIN:VEVENT
DTSTART;TZID=America/Chicago:20260518T141500
DTEND;TZID=America/Chicago:20260518T150000
DTSTAMP:20260422T170345
CREATED:20260422T091651Z
LAST-MODIFIED:20260422T092131Z
UID:10006181-1779113700-1779116400@hamiltonhouseseniorliving.com
SUMMARY:Pick Your Own Snack Social
DESCRIPTION:
URL:https://hamiltonhouseseniorliving.com/event-calendar/pick-your-own-snack-social-5/
CATEGORIES:Legacy Court
END:VEVENT
BEGIN:VEVENT
DTSTART;TZID=America/Chicago:20260518T150000
DTEND;TZID=America/Chicago:20260518T160000
DTSTAMP:20260422T170345
CREATED:20260422T091651Z
LAST-MODIFIED:20260422T092143Z
UID:10006182-1779116400-1779120000@hamiltonhouseseniorliving.com
SUMMARY:Manicures
DESCRIPTION:
URL:https://hamiltonhouseseniorliving.com/event-calendar/manicures-41/
CATEGORIES:Legacy Court
END:VEVENT
BEGIN:VEVENT
DTSTART;TZID=America/Chicago:20260518T160000
DTEND;TZID=America/Chicago:20260518T161500
DTSTAMP:20260422T170345
CREATED:20260419T091713Z
LAST-MODIFIED:20260422T092143Z
UID:10006127-1779120000-1779120900@hamiltonhouseseniorliving.com
SUMMARY:Walker's Club
DESCRIPTION:
URL:https://hamiltonhouseseniorliving.com/event-calendar/walkers-club-401/
CATEGORIES:Legacy Court
END:VEVENT
BEGIN:VEVENT
DTSTART;TZID=America/Chicago:20260518T161500
DTEND;TZID=America/Chicago:20260518T163000
DTSTAMP:20260422T170345
CREATED:20260419T091713Z
LAST-MODIFIED:20260422T092131Z
UID:10006128-1779120900-1779121800@hamiltonhouseseniorliving.com
SUMMARY:Oshibori
DESCRIPTION:
URL:https://hamiltonhouseseniorliving.com/event-calendar/oshibori-366/
CATEGORIES:Legacy Court
END:VEVENT
BEGIN:VEVENT
DTSTART;TZID=America/Chicago:20260518T173000
DTEND;TZID=America/Chicago:20260518T183000
DTSTAMP:20260422T170345
CREATED:20260419T091714Z
LAST-MODIFIED:20260422T092143Z
UID:10006129-1779125400-1779129000@hamiltonhouseseniorliving.com
SUMMARY:Word Games
DESCRIPTION:
URL:https://hamiltonhouseseniorliving.com/event-calendar/word-games-7/
CATEGORIES:Legacy Court
END:VEVENT
BEGIN:VEVENT
DTSTART;TZID=America/Chicago:20260518T180000
DTEND;TZID=America/Chicago:20260518T190000
DTSTAMP:20260422T170345
CREATED:20260419T091714Z
LAST-MODIFIED:20260421T091703Z
UID:10006130-1779127200-1779130800@hamiltonhouseseniorliving.com
SUMMARY:Jeopardy
DESCRIPTION:
URL:https://hamiltonhouseseniorliving.com/event-calendar/jeopardy-452/
CATEGORIES:Legacy Court
END:VEVENT
BEGIN:VEVENT
DTSTART;TZID=America/Chicago:20260518T181500
DTEND;TZID=America/Chicago:20260518T183500
DTSTAMP:20260422T170345
CREATED:20260419T091715Z
LAST-MODIFIED:20260422T092143Z
UID:10006131-1779128100-1779129300@hamiltonhouseseniorliving.com
SUMMARY:Night-time Devotion
DESCRIPTION:
URL:https://hamiltonhouseseniorliving.com/event-calendar/night-time-devotion-7/
CATEGORIES:Legacy Court
END:VEVENT
BEGIN:VEVENT
DTSTART;VALUE=DATE:20260519
DTEND;VALUE=DATE:20260520
DTSTAMP:20260422T170345
CREATED:20260419T091715Z
LAST-MODIFIED:20260422T092143Z
UID:10006132-1779148800-1779235199@hamiltonhouseseniorliving.com
SUMMARY:AM & PM ADLs/1:1 Visits
DESCRIPTION:
URL:https://hamiltonhouseseniorliving.com/event-calendar/am-pm-adls-11-visits-370/
CATEGORIES:Legacy Court
END:VEVENT
BEGIN:VEVENT
DTSTART;VALUE=DATE:20260519
DTEND;VALUE=DATE:20260520
DTSTAMP:20260422T170345
CREATED:20260419T091715Z
LAST-MODIFIED:20260422T092144Z
UID:10006133-1779148800-1779235199@hamiltonhouseseniorliving.com
SUMMARY:DR Set Up/Clean Up
DESCRIPTION:
URL:https://hamiltonhouseseniorliving.com/event-calendar/dr-set-up-clean-up-370/
CATEGORIES:Legacy Court
END:VEVENT
BEGIN:VEVENT
DTSTART;TZID=America/Chicago:20260519T083000
DTEND;TZID=America/Chicago:20260519T093000
DTSTAMP:20260422T170345
CREATED:20260420T091657Z
LAST-MODIFIED:20260422T092144Z
UID:10006134-1779179400-1779183000@hamiltonhouseseniorliving.com
SUMMARY:Game Show
DESCRIPTION:
URL:https://hamiltonhouseseniorliving.com/event-calendar/game-show-471/
CATEGORIES:Legacy Court
END:VEVENT
BEGIN:VEVENT
DTSTART;TZID=America/Chicago:20260519T101500
DTEND;TZID=America/Chicago:20260519T104500
DTSTAMP:20260422T170345
CREATED:20260420T091657Z
LAST-MODIFIED:20260422T092144Z
UID:10006135-1779185700-1779187500@hamiltonhouseseniorliving.com
SUMMARY:Sit And Be Fit
DESCRIPTION:
URL:https://hamiltonhouseseniorliving.com/event-calendar/sit-and-be-fit-107/
CATEGORIES:Legacy Court
END:VEVENT
BEGIN:VEVENT
DTSTART;TZID=America/Chicago:20260519T104500
DTEND;TZID=America/Chicago:20260519T111500
DTSTAMP:20260422T170345
CREATED:20260420T091658Z
LAST-MODIFIED:20260422T092144Z
UID:10006136-1779187500-1779189300@hamiltonhouseseniorliving.com
SUMMARY:Hymns and Reflections
DESCRIPTION:
URL:https://hamiltonhouseseniorliving.com/event-calendar/devotions-and-hymns-8/
CATEGORIES:Legacy Court
END:VEVENT
BEGIN:VEVENT
DTSTART;TZID=America/Chicago:20260519T111500
DTEND;TZID=America/Chicago:20260519T113000
DTSTAMP:20260422T170345
CREATED:20260420T091658Z
LAST-MODIFIED:20260422T092144Z
UID:10006137-1779189300-1779190200@hamiltonhouseseniorliving.com
SUMMARY:Oshibori
DESCRIPTION:
URL:https://hamiltonhouseseniorliving.com/event-calendar/oshibori-367/
CATEGORIES:Legacy Court
END:VEVENT
BEGIN:VEVENT
DTSTART;TZID=America/Chicago:20260519T130000
DTEND;TZID=America/Chicago:20260519T140000
DTSTAMP:20260422T170345
CREATED:20260420T091658Z
LAST-MODIFIED:20260422T092155Z
UID:10006138-1779195600-1779199200@hamiltonhouseseniorliving.com
SUMMARY:Lifespark Robot Soccer League
DESCRIPTION:
URL:https://hamiltonhouseseniorliving.com/event-calendar/lifespark-robot-soccer-league/
CATEGORIES:Legacy Court
END:VEVENT
BEGIN:VEVENT
DTSTART;TZID=America/Chicago:20260519T141500
DTEND;TZID=America/Chicago:20260519T150000
DTSTAMP:20260422T170345
CREATED:20260422T091652Z
LAST-MODIFIED:20260422T092155Z
UID:10006183-1779200100-1779202800@hamiltonhouseseniorliving.com
SUMMARY:Jewish American Heritage Month Social
DESCRIPTION:Bagels and Cream Cheese social\, Jewish history trivia
URL:https://hamiltonhouseseniorliving.com/event-calendar/jewish-american-heritage-month-social/
CATEGORIES:Legacy Court
END:VEVENT
BEGIN:VEVENT
DTSTART;TZID=America/Chicago:20260519T150000
DTEND;TZID=America/Chicago:20260519T160000
DTSTAMP:20260422T170345
CREATED:20260420T091658Z
LAST-MODIFIED:20260422T092155Z
UID:10006139-1779202800-1779206400@hamiltonhouseseniorliving.com
SUMMARY:Making Coffee Filter Flowers
DESCRIPTION:
URL:https://hamiltonhouseseniorliving.com/event-calendar/tall-tales-visual-story-telling-7/
CATEGORIES:Legacy Court
END:VEVENT
BEGIN:VEVENT
DTSTART;TZID=America/Chicago:20260519T160000
DTEND;TZID=America/Chicago:20260519T161500
DTSTAMP:20260422T170345
CREATED:20260420T091658Z
LAST-MODIFIED:20260422T092155Z
UID:10006140-1779206400-1779207300@hamiltonhouseseniorliving.com
SUMMARY:Walker's Club
DESCRIPTION:
URL:https://hamiltonhouseseniorliving.com/event-calendar/walkers-club-402/
CATEGORIES:Legacy Court
END:VEVENT
BEGIN:VEVENT
DTSTART;TZID=America/Chicago:20260519T183000
DTEND;TZID=America/Chicago:20260519T193000
DTSTAMP:20260422T170345
CREATED:20260420T091659Z
LAST-MODIFIED:20260422T092155Z
UID:10006141-1779215400-1779219000@hamiltonhouseseniorliving.com
SUMMARY:Jeopardy
DESCRIPTION:
URL:https://hamiltonhouseseniorliving.com/event-calendar/jeopardy-453/
CATEGORIES:Legacy Court
END:VEVENT
BEGIN:VEVENT
DTSTART;VALUE=DATE:20260520
DTEND;VALUE=DATE:20260521
DTSTAMP:20260422T170345
CREATED:20260420T091700Z
LAST-MODIFIED:20260422T092155Z
UID:10006143-1779235200-1779321599@hamiltonhouseseniorliving.com
SUMMARY:DR Set Up/Clean Up
DESCRIPTION:
URL:https://hamiltonhouseseniorliving.com/event-calendar/dr-set-up-clean-up-371/
CATEGORIES:Legacy Court
END:VEVENT
BEGIN:VEVENT
DTSTART;VALUE=DATE:20260520
DTEND;VALUE=DATE:20260521
DTSTAMP:20260422T170345
CREATED:20260420T091700Z
LAST-MODIFIED:20260422T092155Z
UID:10006142-1779235200-1779321599@hamiltonhouseseniorliving.com
SUMMARY:AM & PM ADLs/1:1 Visits
DESCRIPTION:
URL:https://hamiltonhouseseniorliving.com/event-calendar/am-pm-adls-11-visits-371/
CATEGORIES:Legacy Court
END:VEVENT
BEGIN:VEVENT
DTSTART;TZID=America/Chicago:20260520T083000
DTEND;TZID=America/Chicago:20260520T093000
DTSTAMP:20260422T170345
CREATED:20260421T091704Z
LAST-MODIFIED:20260422T092155Z
UID:10006144-1779265800-1779269400@hamiltonhouseseniorliving.com
SUMMARY:Game Show
DESCRIPTION:
URL:https://hamiltonhouseseniorliving.com/event-calendar/game-show-472/
CATEGORIES:Legacy Court
END:VEVENT
BEGIN:VEVENT
DTSTART;TZID=America/Chicago:20260520T101500
DTEND;TZID=America/Chicago:20260520T103000
DTSTAMP:20260422T170345
CREATED:20260421T091704Z
LAST-MODIFIED:20260422T092155Z
UID:10006145-1779272100-1779273000@hamiltonhouseseniorliving.com
SUMMARY:Communion With Karen
DESCRIPTION:
URL:https://hamiltonhouseseniorliving.com/event-calendar/communion-with-karen-32/
CATEGORIES:Legacy Court
END:VEVENT
BEGIN:VEVENT
DTSTART;TZID=America/Chicago:20260520T110000
DTEND;TZID=America/Chicago:20260520T143000
DTSTAMP:20260422T170345
CREATED:20260421T091704Z
LAST-MODIFIED:20260422T092155Z
UID:10006146-1779274800-1779287400@hamiltonhouseseniorliving.com
SUMMARY:Diner's Club Outing
DESCRIPTION:
URL:https://hamiltonhouseseniorliving.com/event-calendar/diners-club-outing-5/
CATEGORIES:Legacy Court
END:VEVENT
BEGIN:VEVENT
DTSTART;TZID=America/Chicago:20260520T111500
DTEND;TZID=America/Chicago:20260520T113000
DTSTAMP:20260422T170345
CREATED:20260421T091704Z
LAST-MODIFIED:20260421T091704Z
UID:10006147-1779275700-1779276600@hamiltonhouseseniorliving.com
SUMMARY:Oshibori
DESCRIPTION:
URL:https://hamiltonhouseseniorliving.com/event-calendar/oshibori-368/
CATEGORIES:Legacy Court
END:VEVENT
BEGIN:VEVENT
DTSTART;TZID=America/Chicago:20260520T141500
DTEND;TZID=America/Chicago:20260520T144500
DTSTAMP:20260422T170345
CREATED:20260422T091653Z
LAST-MODIFIED:20260422T092208Z
UID:10006184-1779286500-1779288300@hamiltonhouseseniorliving.com
SUMMARY:Ice Cream Treat Social
DESCRIPTION:
URL:https://hamiltonhouseseniorliving.com/event-calendar/ice-cream-treat-social-10/
CATEGORIES:Legacy Court
END:VEVENT
BEGIN:VEVENT
DTSTART;TZID=America/Chicago:20260520T144500
DTEND;TZID=America/Chicago:20260520T151500
DTSTAMP:20260422T170345
CREATED:20260422T091653Z
LAST-MODIFIED:20260422T092208Z
UID:10006185-1779288300-1779290100@hamiltonhouseseniorliving.com
SUMMARY:Who Wants To Be A Millionaire
DESCRIPTION:
URL:https://hamiltonhouseseniorliving.com/event-calendar/who-wants-to-be-a-millionaire-2/
CATEGORIES:Legacy Court
END:VEVENT
BEGIN:VEVENT
DTSTART;TZID=America/Chicago:20260520T153000
DTEND;TZID=America/Chicago:20260520T161500
DTSTAMP:20260422T170345
CREATED:20260422T091653Z
LAST-MODIFIED:20260422T092208Z
UID:10006186-1779291000-1779293700@hamiltonhouseseniorliving.com
SUMMARY:Honey Bunnies Cheer Huddle
DESCRIPTION:
URL:https://hamiltonhouseseniorliving.com/event-calendar/honey-bunnies-cheer-huddle-2/
CATEGORIES:Legacy Court
END:VEVENT
BEGIN:VEVENT
DTSTART;TZID=America/Chicago:20260520T160000
DTEND;TZID=America/Chicago:20260520T161500
DTSTAMP:20260422T170345
CREATED:20260421T091705Z
LAST-MODIFIED:20260422T092208Z
UID:10006148-1779292800-1779293700@hamiltonhouseseniorliving.com
SUMMARY:Walker's Club
DESCRIPTION:
URL:https://hamiltonhouseseniorliving.com/event-calendar/walkers-club-403/
CATEGORIES:Legacy Court
END:VEVENT
BEGIN:VEVENT
DTSTART;TZID=America/Chicago:20260520T180000
DTEND;TZID=America/Chicago:20260520T190000
DTSTAMP:20260422T170345
CREATED:20260421T091705Z
LAST-MODIFIED:20260422T092209Z
UID:10006149-1779300000-1779303600@hamiltonhouseseniorliving.com
SUMMARY:Games With Our Blossom Friends
DESCRIPTION:
URL:https://hamiltonhouseseniorliving.com/event-calendar/jeopardy-454/
CATEGORIES:Legacy Court
END:VEVENT
BEGIN:VEVENT
DTSTART;VALUE=DATE:20260521
DTEND;VALUE=DATE:20260522
DTSTAMP:20260422T170345
CREATED:20260421T091705Z
LAST-MODIFIED:20260422T092209Z
UID:10006150-1779321600-1779407999@hamiltonhouseseniorliving.com
SUMMARY:AM & PM ADLs/1:1 Visits
DESCRIPTION:
URL:https://hamiltonhouseseniorliving.com/event-calendar/am-pm-adls-11-visits-372/
CATEGORIES:Legacy Court
END:VEVENT
END:VCALENDAR